BEGIN:VCALENDAR
PRODID:-//ic Event Manager/Calendar 2.0//EN
VERSION:2.0
CALSCALE:GREGORIAN
METHOD:PUBLISH
X-WR-CALNAME:Zientzia Kaiera
BEGIN:VEVENT
UID:34354
DTSTART:20260511T093000Z
DTEND:20260511T200000Z
DTSTAMP:20260422T102756Z
URL;VALUE=URI:https://zientziakaiera.eus/?p=34354
DESCRIPTION:Eguzki-eklipse osoa. Behaketa\, esplorazioa eta zientzia jard
 unaldia
SUMMARY:Testu irisgarria A+ A++ 🌙 3 min Eguzki-eklipse osoa. Behaketa\, e
 splorazioa eta zientzia jardunaldia 2026ko abuzturaren 12an aukera parega
 bea izango dugu gertakari astronomiko zoragarri bat bizitzeko: eguzki-ekl
 ipse osoa. 1905ean ikusi zen azkena Euskal Herrian. Eklipsea ilunabarra b
 aino pixka bat lehenago izango da eta ez da berdin ikusiko leku guztietan
 . Esaterako…
LOCATION:Bizkaia Aretoa – EHU.  — Abandoibarra etorbidea\, 3.  — Bilbo.
ORGANIZER:Zientzia Kaiera
ATTACH:https://zientziakaiera.eus/app/uploads/2026/04/720KZK-Eklipsea_Oro
 korra-EUS_web-210x140.jpg
TRANSP:OPAQUE
END:VEVENT
END:VCALENDAR
